BEGIN:VCALENDAR
VERSION:2.0
PRODID:-//Rock n Roll City Cleveland HOG Chapter #5293 - ECPv6.15.20//NONSGML v1.0//EN
CALSCALE:GREGORIAN
METHOD:PUBLISH
X-ORIGINAL-URL:https://rocknrollhog.com
X-WR-CALDESC:Events for Rock n Roll City Cleveland HOG Chapter #5293
REFRESH-INTERVAL;VALUE=DURATION:PT1H
X-Robots-Tag:noindex
X-PUBLISHED-TTL:PT1H
BEGIN:VTIMEZONE
TZID:America/Detroit
BEGIN:DAYLIGHT
TZOFFSETFROM:-0500
TZOFFSETTO:-0400
TZNAME:EDT
DTSTART:20250309T070000
END:DAYLIGHT
BEGIN:STANDARD
TZOFFSETFROM:-0400
TZOFFSETTO:-0500
TZNAME:EST
DTSTART:20251102T060000
END:STANDARD
BEGIN:DAYLIGHT
TZOFFSETFROM:-0500
TZOFFSETTO:-0400
TZNAME:EDT
DTSTART:20260308T070000
END:DAYLIGHT
BEGIN:STANDARD
TZOFFSETFROM:-0400
TZOFFSETTO:-0500
TZNAME:EST
DTSTART:20261101T060000
END:STANDARD
BEGIN:DAYLIGHT
TZOFFSETFROM:-0500
TZOFFSETTO:-0400
TZNAME:EDT
DTSTART:20270314T070000
END:DAYLIGHT
BEGIN:STANDARD
TZOFFSETFROM:-0400
TZOFFSETTO:-0500
TZNAME:EST
DTSTART:20271107T060000
END:STANDARD
END:VTIMEZONE
BEGIN:VEVENT
DTSTART;TZID=America/Detroit:20260516T100000
DTEND;TZID=America/Detroit:20260516T140000
DTSTAMP:20260420T193808
CREATED:20260313T154902Z
LAST-MODIFIED:20260313T155016Z
UID:3636-1778925600-1778940000@rocknrollhog.com
SUMMARY:Leetonia Beehive Coke Ovens
DESCRIPTION:For this ride Clint Felker will be leading a group down visit the Beehive Coke Ovens in Leetonia\, OH. \n\n\n\nDeparture Location: Shell at Rockside Rd & Brecksville Rd. \n\n\n\nKSU: 10:00am \n\n\n\nRoad Captain: Clint Felker
URL:https://rocknrollhog.com/event/leetonia-beehive-coke-ovens/
LOCATION:Coke Ovens\, 999 Cherry Valley Rd\, Leetonia\, Ohio\, 44431\, United States
CATEGORIES:Chapter Ride
END:VEVENT
END:VCALENDAR