BEGIN:VCALENDAR
VERSION:2.0
PRODID:-//Rock n Roll City Cleveland HOG Chapter #5293 - ECPv6.15.20//NONSGML v1.0//EN
CALSCALE:GREGORIAN
METHOD:PUBLISH
X-ORIGINAL-URL:https://rocknrollhog.com
X-WR-CALDESC:Events for Rock n Roll City Cleveland HOG Chapter #5293
REFRESH-INTERVAL;VALUE=DURATION:PT1H
X-Robots-Tag:noindex
X-PUBLISHED-TTL:PT1H
BEGIN:VTIMEZONE
TZID:America/Detroit
BEGIN:DAYLIGHT
TZOFFSETFROM:-0500
TZOFFSETTO:-0400
TZNAME:EDT
DTSTART:20250309T070000
END:DAYLIGHT
BEGIN:STANDARD
TZOFFSETFROM:-0400
TZOFFSETTO:-0500
TZNAME:EST
DTSTART:20251102T060000
END:STANDARD
BEGIN:DAYLIGHT
TZOFFSETFROM:-0500
TZOFFSETTO:-0400
TZNAME:EDT
DTSTART:20260308T070000
END:DAYLIGHT
BEGIN:STANDARD
TZOFFSETFROM:-0400
TZOFFSETTO:-0500
TZNAME:EST
DTSTART:20261101T060000
END:STANDARD
BEGIN:DAYLIGHT
TZOFFSETFROM:-0500
TZOFFSETTO:-0400
TZNAME:EDT
DTSTART:20270314T070000
END:DAYLIGHT
BEGIN:STANDARD
TZOFFSETFROM:-0400
TZOFFSETTO:-0500
TZNAME:EST
DTSTART:20271107T060000
END:STANDARD
END:VTIMEZONE
BEGIN:VEVENT
DTSTART;TZID=America/Detroit:20260808T100000
DTEND;TZID=America/Detroit:20260808T140000
DTSTAMP:20260420T211723
CREATED:20260313T164703Z
LAST-MODIFIED:20260313T164708Z
UID:3670-1786183200-1786197600@rocknrollhog.com
SUMMARY:Buckeye Express Diner/Worlds Largest Bobblehead
DESCRIPTION:Clint Felker is leading this ride down to Bellville\, OH to visit The world Largest Bobblehead and have lunch at The Buckeye Express Diner. \n\n\n\nDeparture Location: Sheetz at W130th & Route 303 \n\n\n\nKSU: 10:00am \n\n\n\nRoad Captain: Clint Felker
URL:https://rocknrollhog.com/event/buckeye-express-diner-worlds-largest-bobblehead/
LOCATION:Buckeye Express Diner\, 810 OH-97\, Bellville\, Ohio\, 44813\, United States
CATEGORIES:Chapter Ride
END:VEVENT
END:VCALENDAR