BEGIN:VCALENDAR
VERSION:2.0
PRODID:-//Rock n Roll City Cleveland HOG Chapter #5293 - ECPv6.15.20//NONSGML v1.0//EN
CALSCALE:GREGORIAN
METHOD:PUBLISH
X-ORIGINAL-URL:https://rocknrollhog.com
X-WR-CALDESC:Events for Rock n Roll City Cleveland HOG Chapter #5293
REFRESH-INTERVAL;VALUE=DURATION:PT1H
X-Robots-Tag:noindex
X-PUBLISHED-TTL:PT1H
BEGIN:VTIMEZONE
TZID:America/Detroit
BEGIN:DAYLIGHT
TZOFFSETFROM:-0500
TZOFFSETTO:-0400
TZNAME:EDT
DTSTART:20250309T070000
END:DAYLIGHT
BEGIN:STANDARD
TZOFFSETFROM:-0400
TZOFFSETTO:-0500
TZNAME:EST
DTSTART:20251102T060000
END:STANDARD
BEGIN:DAYLIGHT
TZOFFSETFROM:-0500
TZOFFSETTO:-0400
TZNAME:EDT
DTSTART:20260308T070000
END:DAYLIGHT
BEGIN:STANDARD
TZOFFSETFROM:-0400
TZOFFSETTO:-0500
TZNAME:EST
DTSTART:20261101T060000
END:STANDARD
BEGIN:DAYLIGHT
TZOFFSETFROM:-0500
TZOFFSETTO:-0400
TZNAME:EDT
DTSTART:20270314T070000
END:DAYLIGHT
BEGIN:STANDARD
TZOFFSETFROM:-0400
TZOFFSETTO:-0500
TZNAME:EST
DTSTART:20271107T060000
END:STANDARD
END:VTIMEZONE
BEGIN:VEVENT
DTSTART;TZID=America/Detroit:20260815T100000
DTEND;TZID=America/Detroit:20260815T140000
DTSTAMP:20260421T013601
CREATED:20260313T165238Z
LAST-MODIFIED:20260313T165240Z
UID:3674-1786788000-1786802400@rocknrollhog.com
SUMMARY:G & R Tavern
DESCRIPTION:Robert Moore will lead this ride to the G & R Tavern in Waldo\, OH. Famous for its pies and fried bologna sandwiches. \n\n\n\nDeparture Location: Sheetz at W130th & Route 303 \n\n\n\nKSU: 10:00am \n\n\n\nRoad Captain: Robert Moore
URL:https://rocknrollhog.com/event/g-r-tavern/
LOCATION:G & R Tavern\, 103 N Marion St\, Waldo\, Ohio\, 43356\, United States
CATEGORIES:Chapter Ride
END:VEVENT
END:VCALENDAR