BEGIN:VCALENDAR
VERSION:2.0
PRODID:-//Rock n Roll City Cleveland HOG Chapter #5293 - ECPv6.15.20//NONSGML v1.0//EN
CALSCALE:GREGORIAN
METHOD:PUBLISH
X-ORIGINAL-URL:https://rocknrollhog.com
X-WR-CALDESC:Events for Rock n Roll City Cleveland HOG Chapter #5293
REFRESH-INTERVAL;VALUE=DURATION:PT1H
X-Robots-Tag:noindex
X-PUBLISHED-TTL:PT1H
BEGIN:VTIMEZONE
TZID:America/Detroit
BEGIN:DAYLIGHT
TZOFFSETFROM:-0500
TZOFFSETTO:-0400
TZNAME:EDT
DTSTART:20250309T070000
END:DAYLIGHT
BEGIN:STANDARD
TZOFFSETFROM:-0400
TZOFFSETTO:-0500
TZNAME:EST
DTSTART:20251102T060000
END:STANDARD
BEGIN:DAYLIGHT
TZOFFSETFROM:-0500
TZOFFSETTO:-0400
TZNAME:EDT
DTSTART:20260308T070000
END:DAYLIGHT
BEGIN:STANDARD
TZOFFSETFROM:-0400
TZOFFSETTO:-0500
TZNAME:EST
DTSTART:20261101T060000
END:STANDARD
BEGIN:DAYLIGHT
TZOFFSETFROM:-0500
TZOFFSETTO:-0400
TZNAME:EDT
DTSTART:20270314T070000
END:DAYLIGHT
BEGIN:STANDARD
TZOFFSETFROM:-0400
TZOFFSETTO:-0500
TZNAME:EST
DTSTART:20271107T060000
END:STANDARD
END:VTIMEZONE
BEGIN:VEVENT
DTSTART;TZID=America/Detroit:20260830T100000
DTEND;TZID=America/Detroit:20260830T140000
DTSTAMP:20260421T015302
CREATED:20260313T171437Z
LAST-MODIFIED:20260313T171439Z
UID:3682-1788084000-1788098400@rocknrollhog.com
SUMMARY:Lorain Lighthouse Tour
DESCRIPTION:Do you see the light? Mary Burns takes us to Lorain\, Oh to tour The Lorain Lighthouse. \n\n\n\nDeparture Location: Speedway at I90 & 611 \n\n\n\nKSU: 10:00 \n\n\n\nRoad Captain: Mary Burns
URL:https://rocknrollhog.com/event/lorain-lighthouse-tour/
LOCATION:Lorain Lighthouse\, 319 Black River Lane\, Lorain\, Ohio\, United States
CATEGORIES:Chapter Ride
END:VEVENT
END:VCALENDAR