BEGIN:VCALENDAR
VERSION:2.0
PRODID:-//Rock n Roll City Cleveland HOG Chapter #5293 - ECPv6.15.20//NONSGML v1.0//EN
CALSCALE:GREGORIAN
METHOD:PUBLISH
X-WR-CALNAME:Rock n Roll City Cleveland HOG Chapter #5293
X-ORIGINAL-URL:https://rocknrollhog.com
X-WR-CALDESC:Events for Rock n Roll City Cleveland HOG Chapter #5293
REFRESH-INTERVAL;VALUE=DURATION:PT1H
X-Robots-Tag:noindex
X-PUBLISHED-TTL:PT1H
BEGIN:VTIMEZONE
TZID:America/Detroit
BEGIN:DAYLIGHT
TZOFFSETFROM:-0500
TZOFFSETTO:-0400
TZNAME:EDT
DTSTART:20250309T070000
END:DAYLIGHT
BEGIN:STANDARD
TZOFFSETFROM:-0400
TZOFFSETTO:-0500
TZNAME:EST
DTSTART:20251102T060000
END:STANDARD
BEGIN:DAYLIGHT
TZOFFSETFROM:-0500
TZOFFSETTO:-0400
TZNAME:EDT
DTSTART:20260308T070000
END:DAYLIGHT
BEGIN:STANDARD
TZOFFSETFROM:-0400
TZOFFSETTO:-0500
TZNAME:EST
DTSTART:20261101T060000
END:STANDARD
BEGIN:DAYLIGHT
TZOFFSETFROM:-0500
TZOFFSETTO:-0400
TZNAME:EDT
DTSTART:20270314T070000
END:DAYLIGHT
BEGIN:STANDARD
TZOFFSETFROM:-0400
TZOFFSETTO:-0500
TZNAME:EST
DTSTART:20271107T060000
END:STANDARD
END:VTIMEZONE
BEGIN:VEVENT
DTSTART;TZID=America/Detroit:20261010T100000
DTEND;TZID=America/Detroit:20261010T150000
DTSTAMP:20260423T113733
CREATED:20260313T174756Z
LAST-MODIFIED:20260313T174758Z
UID:3704-1791626400-1791644400@rocknrollhog.com
SUMMARY:Covered Bridges Ride
DESCRIPTION:George Hammond will be taking us to Astabula\, OH to ride through some of the covered bridges in the area. Keeping with the theme\, we will also be stopping for lunch at one of the two covered bridge pizza parlors. \n\n\n\nDeparture Location: Shell at Rockside Rd & Brecksville Rd. \n\n\n\nKSU: 10:00am \n\n\n\nRoad Captain: George Hammond
URL:https://rocknrollhog.com/event/covered-bridges-ride/
LOCATION:Covered Bridge Pizza\, 6541 N Main St\, North Kingsville\, Ohio\, 44068\, United States
CATEGORIES:Chapter Ride
END:VEVENT
END:VCALENDAR