BEGIN:VCALENDAR
VERSION:2.0
PRODID:-//Rock n Roll City Cleveland HOG Chapter #5293 - ECPv6.15.20//NONSGML v1.0//EN
CALSCALE:GREGORIAN
METHOD:PUBLISH
X-WR-CALNAME:Rock n Roll City Cleveland HOG Chapter #5293
X-ORIGINAL-URL:https://rocknrollhog.com
X-WR-CALDESC:Events for Rock n Roll City Cleveland HOG Chapter #5293
REFRESH-INTERVAL;VALUE=DURATION:PT1H
X-Robots-Tag:noindex
X-PUBLISHED-TTL:PT1H
BEGIN:VTIMEZONE
TZID:America/Detroit
BEGIN:DAYLIGHT
TZOFFSETFROM:-0500
TZOFFSETTO:-0400
TZNAME:EDT
DTSTART:20250309T070000
END:DAYLIGHT
BEGIN:STANDARD
TZOFFSETFROM:-0400
TZOFFSETTO:-0500
TZNAME:EST
DTSTART:20251102T060000
END:STANDARD
BEGIN:DAYLIGHT
TZOFFSETFROM:-0500
TZOFFSETTO:-0400
TZNAME:EDT
DTSTART:20260308T070000
END:DAYLIGHT
BEGIN:STANDARD
TZOFFSETFROM:-0400
TZOFFSETTO:-0500
TZNAME:EST
DTSTART:20261101T060000
END:STANDARD
BEGIN:DAYLIGHT
TZOFFSETFROM:-0500
TZOFFSETTO:-0400
TZNAME:EDT
DTSTART:20270314T070000
END:DAYLIGHT
BEGIN:STANDARD
TZOFFSETFROM:-0400
TZOFFSETTO:-0500
TZNAME:EST
DTSTART:20271107T060000
END:STANDARD
END:VTIMEZONE
BEGIN:VEVENT
DTSTART;TZID=America/Detroit:20260502T100000
DTEND;TZID=America/Detroit:20260502T160000
DTSTAMP:20260420T225856
CREATED:20260223T191821Z
LAST-MODIFIED:20260223T191830Z
UID:3591-1777716000-1777737600@rocknrollhog.com
SUMMARY:International Female Rider Day
DESCRIPTION:This is a dealer sponsored event. Stay tuned for more details
URL:https://rocknrollhog.com/event/international-female-rider-day/
LOCATION:Ohio
CATEGORIES:Dealer Event,Dealer Ride
END:VEVENT
BEGIN:VEVENT
DTSTART;TZID=America/Detroit:20260425T090000
DTEND;TZID=America/Detroit:20260425T170000
DTSTAMP:20260420T225856
CREATED:20260313T152835Z
LAST-MODIFIED:20260313T221423Z
UID:3627-1777107600-1777136400@rocknrollhog.com
SUMMARY:10 or Die Trying
DESCRIPTION:For this ride we will be stopping at 10 area dealerships for the HOG Dealership Photo Challenge. Stops will include Rock N Roll\, Stinger\, South East\, Mad River\, Mansfield\, and more. This will be a long day in the saddle (about 350 miles)\, and should be a lot of fun. \n\n\n\nDeparture Location: Bob Evans at West 130th & Brookpark Rd. \n\n\n\nKSU: 9:00am \n\n\n\nRoad Captain: Stephen Benefit
URL:https://rocknrollhog.com/event/10-or-die-trying/
LOCATION:Ohio
CATEGORIES:Chapter Ride
END:VEVENT
BEGIN:VEVENT
DTSTART;TZID=America/Detroit:20260418T100000
DTEND;TZID=America/Detroit:20260418T140000
DTSTAMP:20260420T225856
CREATED:20260313T152042Z
LAST-MODIFIED:20260418T170351Z
UID:3625-1776506400-1776520800@rocknrollhog.com
SUMMARY:Waterfall Ride
DESCRIPTION:Join us for the season opening ride\, led by George Hammond. We will be touring the area waterfalls and enjoying the natural beauty of N.E Ohio. \n\n\n\nDeparture Location: Bob Evans at West 130th & Brookpark Rd. \n\n\n\nKSU: 10:00am \n\n\n\nRoad Captain: George Hammond \n\n\n\nRoute: \n\n\n\n		\n			\n				\n				 © OpenStreetMap contributors\n			\n			\n			\n			\n		\n		\n		Download file: Waterfalls_Ride.gpx
URL:https://rocknrollhog.com/event/waterfall-ride/
LOCATION:Ohio
CATEGORIES:Chapter Ride
END:VEVENT
BEGIN:VEVENT
DTSTART;TZID=America/Detroit:20260412T100000
DTEND;TZID=America/Detroit:20260412T110000
DTSTAMP:20260420T225856
CREATED:20251226T181957Z
LAST-MODIFIED:20251226T182104Z
UID:3477-1775988000-1775991600@rocknrollhog.com
SUMMARY:Chapter Meeting
DESCRIPTION:Join us for our monthly chapter meeting/gathering at Rock N Roll City Harley Davidson from 10:00 to 11:00.
URL:https://rocknrollhog.com/event/chapter-meeting-13/
LOCATION:Ohio
CATEGORIES:Chaper Gathering
END:VEVENT
BEGIN:VEVENT
DTSTART;TZID=America/Detroit:20260328T130000
DTEND;TZID=America/Detroit:20260328T150000
DTSTAMP:20260420T225856
CREATED:20260208T232525Z
LAST-MODIFIED:20260322T170538Z
UID:3584-1774702800-1774710000@rocknrollhog.com
SUMMARY:Glass Fusion Pendant Class
DESCRIPTION:Glass fusion pendant class (dichroic) \n\n\n\nWhen: Saturday\, March 28th \n\n\n\nTime: 1:00pm \n\n\n\nWhere: Verite Glass\, Inc. \n\n\n\n11 South Main St.\, Oberlin\, OH \n\n\n\nCost: $30 (payment due at the time of the class) \n\n\n\nRSVP: Monday\, March 23rd. loh@rocknrollhog.com
URL:https://rocknrollhog.com/event/glass-fusion-pendant-class/
LOCATION:Verite Glass Inc.\, 11 S Main St.\, Oberlin\, Ohio\, 44074\, United States
CATEGORIES:LOH Event
END:VEVENT
BEGIN:VEVENT
DTSTART;TZID=America/Detroit:20260308T100000
DTEND;TZID=America/Detroit:20260308T110000
DTSTAMP:20260420T225856
CREATED:20251226T181801Z
LAST-MODIFIED:20251226T181836Z
UID:3474-1772964000-1772967600@rocknrollhog.com
SUMMARY:Chapter Meeting
DESCRIPTION:Join us for our monthly chapter meeting/gathering at Rock N Roll City Harley Davidson from 10:00 to 11:00.
URL:https://rocknrollhog.com/event/3474/
LOCATION:Ohio
CATEGORIES:Chaper Gathering
END:VEVENT
BEGIN:VEVENT
DTSTART;TZID=America/Detroit:20260307T100000
DTEND;TZID=America/Detroit:20260307T130000
DTSTAMP:20260420T225856
CREATED:20260128T180212Z
LAST-MODIFIED:20260304T214613Z
UID:3556-1772877600-1772888400@rocknrollhog.com
SUMMARY:Polar Bear Ride
DESCRIPTION:Start the riding season the right way with our annual Polar Bear Run\, the first patch ride of the season at Rock N Roll City Harley Davidson. \n\n\n\nMeet us at the dealership with registration beginning at 10:00 AM and kickstands up at 11:00 AM. When the ride wraps up\, head back for free lunch and your Polar Bear Run patch. Shake off the winter\, ride with the crew\, and make your first miles of the season count. \n\n\n\nRegistration starts at 10:00 \n\n\n\nKSU: 11:00 \n\n\n\nRoad Captain: George Hammond
URL:https://rocknrollhog.com/event/polar-bear-ride/
LOCATION:Ohio
CATEGORIES:Dealer Event,Dealer Ride
END:VEVENT
BEGIN:VEVENT
DTSTART;TZID=America/Detroit:20260208T100000
DTEND;TZID=America/Detroit:20260208T110000
DTSTAMP:20260420T225856
CREATED:20251226T181714Z
LAST-MODIFIED:20251226T181905Z
UID:3472-1770544800-1770548400@rocknrollhog.com
SUMMARY:Chapter Meeting
DESCRIPTION:Join us for our monthly chapter meeting/gathering at Rock N Roll City Harley Davidson from 10:00 to 11:00.
URL:https://rocknrollhog.com/event/chapter-meeting-12/
LOCATION:Ohio
CATEGORIES:Chaper Gathering
END:VEVENT
BEGIN:VEVENT
DTSTART;TZID=America/Detroit:20260110T180000
DTEND;TZID=America/Detroit:20260110T220000
DTSTAMP:20260420T225856
CREATED:20251019T221713Z
LAST-MODIFIED:20251019T222439Z
UID:3391-1768068000-1768082400@rocknrollhog.com
SUMMARY:Holiday Party
DESCRIPTION:Join us for our annual HOG chapter holiday party at Avon Isle located at 37080 Detroit Rd in Avon. There will be food\, fun\, dancing\, and door prizes\, feel free to bring your favorite adult beverages. Cost is $20.00 for chapter members and $25.00 for guests
URL:https://rocknrollhog.com/event/holiday-party/
LOCATION:Avon Isle\, 37080 Detroit Rd\, Avon\, Ohio\, 44011\, United States
CATEGORIES:Chaper Event
END:VEVENT
END:VCALENDAR