BEGIN:VCALENDAR
VERSION:2.0
PRODID:-//Rock n Roll City Cleveland HOG Chapter #5293 - ECPv6.15.20//NONSGML v1.0//EN
CALSCALE:GREGORIAN
METHOD:PUBLISH
X-WR-CALNAME:Rock n Roll City Cleveland HOG Chapter #5293
X-ORIGINAL-URL:https://rocknrollhog.com
X-WR-CALDESC:Events for Rock n Roll City Cleveland HOG Chapter #5293
REFRESH-INTERVAL;VALUE=DURATION:PT1H
X-Robots-Tag:noindex
X-PUBLISHED-TTL:PT1H
BEGIN:VTIMEZONE
TZID:America/Detroit
BEGIN:DAYLIGHT
TZOFFSETFROM:-0500
TZOFFSETTO:-0400
TZNAME:EDT
DTSTART:20250309T070000
END:DAYLIGHT
BEGIN:STANDARD
TZOFFSETFROM:-0400
TZOFFSETTO:-0500
TZNAME:EST
DTSTART:20251102T060000
END:STANDARD
BEGIN:DAYLIGHT
TZOFFSETFROM:-0500
TZOFFSETTO:-0400
TZNAME:EDT
DTSTART:20260308T070000
END:DAYLIGHT
BEGIN:STANDARD
TZOFFSETFROM:-0400
TZOFFSETTO:-0500
TZNAME:EST
DTSTART:20261101T060000
END:STANDARD
BEGIN:DAYLIGHT
TZOFFSETFROM:-0500
TZOFFSETTO:-0400
TZNAME:EDT
DTSTART:20270314T070000
END:DAYLIGHT
BEGIN:STANDARD
TZOFFSETFROM:-0400
TZOFFSETTO:-0500
TZNAME:EST
DTSTART:20271107T060000
END:STANDARD
END:VTIMEZONE
BEGIN:VEVENT
DTSTART;TZID=America/Detroit:20260110T180000
DTEND;TZID=America/Detroit:20260110T220000
DTSTAMP:20260421T015801
CREATED:20251019T221713Z
LAST-MODIFIED:20251019T222439Z
UID:3391-1768068000-1768082400@rocknrollhog.com
SUMMARY:Holiday Party
DESCRIPTION:Join us for our annual HOG chapter holiday party at Avon Isle located at 37080 Detroit Rd in Avon. There will be food\, fun\, dancing\, and door prizes\, feel free to bring your favorite adult beverages. Cost is $20.00 for chapter members and $25.00 for guests
URL:https://rocknrollhog.com/event/holiday-party/
LOCATION:Avon Isle\, 37080 Detroit Rd\, Avon\, Ohio\, 44011\, United States
CATEGORIES:Chaper Event
END:VEVENT
END:VCALENDAR