BEGIN:VCALENDAR
VERSION:2.0
PRODID:-//Rock n Roll City Cleveland HOG Chapter #5293 - ECPv6.15.20//NONSGML v1.0//EN
CALSCALE:GREGORIAN
METHOD:PUBLISH
X-ORIGINAL-URL:https://rocknrollhog.com
X-WR-CALDESC:Events for Rock n Roll City Cleveland HOG Chapter #5293
REFRESH-INTERVAL;VALUE=DURATION:PT1H
X-Robots-Tag:noindex
X-PUBLISHED-TTL:PT1H
BEGIN:VTIMEZONE
TZID:America/Detroit
BEGIN:DAYLIGHT
TZOFFSETFROM:-0500
TZOFFSETTO:-0400
TZNAME:EDT
DTSTART:20250309T070000
END:DAYLIGHT
BEGIN:STANDARD
TZOFFSETFROM:-0400
TZOFFSETTO:-0500
TZNAME:EST
DTSTART:20251102T060000
END:STANDARD
BEGIN:DAYLIGHT
TZOFFSETFROM:-0500
TZOFFSETTO:-0400
TZNAME:EDT
DTSTART:20260308T070000
END:DAYLIGHT
BEGIN:STANDARD
TZOFFSETFROM:-0400
TZOFFSETTO:-0500
TZNAME:EST
DTSTART:20261101T060000
END:STANDARD
BEGIN:DAYLIGHT
TZOFFSETFROM:-0500
TZOFFSETTO:-0400
TZNAME:EDT
DTSTART:20270314T070000
END:DAYLIGHT
BEGIN:STANDARD
TZOFFSETFROM:-0400
TZOFFSETTO:-0500
TZNAME:EST
DTSTART:20271107T060000
END:STANDARD
END:VTIMEZONE
BEGIN:VEVENT
DTSTART;TZID=America/Detroit:20261107T100000
DTEND;TZID=America/Detroit:20261107T140000
DTSTAMP:20260423T192046
CREATED:20260313T175544Z
LAST-MODIFIED:20260313T175546Z
UID:3712-1794045600-1794060000@rocknrollhog.com
SUMMARY:Salute to Service
DESCRIPTION:George Hammond will officially end the season with the Salute to Service ride. More details will be posted as the become available. \n\n\n\nDeparture Location: TBD (probably from the dealership) \n\n\n\nKSU: TBD \n\n\n\nRoad Captain: George Hammond
URL:https://rocknrollhog.com/event/salute-to-service/
LOCATION:Rock and Roll City Harley Davidson\, 4985 W. 150th St.\, Cleveland\, 44135\, United States
CATEGORIES:Dealer Event,Dealer Ride
END:VEVENT
BEGIN:VEVENT
DTSTART;TZID=America/Detroit:20261108T080000
DTEND;TZID=America/Detroit:20261108T170000
DTSTAMP:20260423T192046
CREATED:20251226T182710Z
LAST-MODIFIED:20260112T011417Z
UID:3491-1794124800-1794157200@rocknrollhog.com
SUMMARY:Chapter Meeting
DESCRIPTION:Join us for our monthly chapter meeting/gathering at Rock N Roll City Harley Davidson from 10:00 to 11:00.
URL:https://rocknrollhog.com/event/chapter-meeting-20/
CATEGORIES:Chaper Gathering
END:VEVENT
END:VCALENDAR